BEGIN:VCALENDAR
VERSION:2.0
PRODID:-//Fondation des Artistes - ECPv4.7.2//NONSGML v1.0//EN
CALSCALE:GREGORIAN
METHOD:PUBLISH
X-WR-CALNAME:Fondation des Artistes
X-ORIGINAL-URL:https://www.fondationdesartistes.fr
X-WR-CALDESC:Évènements pour Fondation des Artistes
BEGIN:VEVENT
DTSTART;TZID=Europe/Paris:20190812T080000
DTEND;TZID=Europe/Paris:20190928T170000
DTSTAMP:20260422T142701
CREATED:20190812T082239Z
LAST-MODIFIED:20190812T082556Z
UID:4310-1565596800-1569690000@www.fondationdesartistes.fr
SUMMARY:Visitez le cabinet de curiosités de l’Hôtel Salomon de Rothschild
DESCRIPTION:Des places sont disponibles pour les prochaines visites du cabinet de curiosités de l’Hôtel Salomon de Rothschild ! \n  \nUnique pièce de l’Hôtel Salomon de Rothschild à avoir conservé la totalité de son décor et de ses collections\, visitez le cabinet de curiosités constitué par Adèle de Rothschild à la fin du XIXe siècle et découvrez un merveilleux patrimoine secret… \nProchaines dates : \n\nVendredi 13 septembre 2019\, à 12h30\nSamedi 28 septembre 2019\, à 11h\n\n  \nInformations pratiques : \n\nVisite-conférence d’une heure trente sur inscription obligatoire\nTarif plein : 10 € / Tarif réduit : 7 € / Gratuité : -16 ans et ICOM\nRéservation : 01 45 63 59 02 ou visite@fondationdesartistes.fr\nEn savoir plus : https://www.fondationdesartistes.fr/lieu/cabinet-de-curiosites/\n\n
URL:https://www.fondationdesartistes.fr/evenement/%tribe_events_cat%/visitez-le-cabinet-de-curiosites-de-lhotel-salomon-de-rothschild/
LOCATION:Hôtel Salomon de Rothshcild\, 11 rue Berryer\, Paris\, 75008\, France
END:VEVENT
BEGIN:VEVENT
DTSTART;TZID=Europe/Paris:20190827T163000
DTEND;TZID=Europe/Paris:20190827T173000
DTSTAMP:20260422T142701
CREATED:20190704T113752Z
LAST-MODIFIED:20191223T101107Z
UID:3873-1566923400-1566927000@www.fondationdesartistes.fr
SUMMARY:Concert ABO\, musique des films
DESCRIPTION:Concert ABO musique des films\, avec Denis Uhalde au piano et Christine Massetti au violon. \nLes musiciens d’Acoustic BO nous proposent un parcours envoûtant à travers l’histoire du cinéma\, de 1960 à nos jours. Tous les genres apparaissent\, tous les continents sont abordés\, tous les grands noms de la musique de film y figurent. \n
URL:https://www.fondationdesartistes.fr/evenement/evenement-mna/concert-abo-musique-des-films/
CATEGORIES:Évènement Mna
ATTACH;FMTTYPE=image/jpeg:https://www.fondationdesartistes.fr/wp-content/uploads/2019/07/IMG_6230_FotorLogo.jpg
END:VEVENT
END:VCALENDAR