BEGIN:VCALENDAR
VERSION:2.0
PRODID:-//Fondation des Artistes - ECPv4.7.2//NONSGML v1.0//EN
CALSCALE:GREGORIAN
METHOD:PUBLISH
X-WR-CALNAME:Fondation des Artistes
X-ORIGINAL-URL:https://www.fondationdesartistes.fr
X-WR-CALDESC:Évènements pour Fondation des Artistes
BEGIN:VEVENT
DTSTART;VALUE=DATE:20190516
DTEND;VALUE=DATE:20190722
DTSTAMP:20260425T115913
CREATED:20181220T094657Z
LAST-MODIFIED:20190704T111824Z
UID:450-1557964800-1563753599@www.fondationdesartistes.fr
SUMMARY:Une journée avec Marie Vassilieff
DESCRIPTION:Artistes :\nAndrée Pradal\, Alice Santin\, Andrée Joubert\, Andrée Launay\, Anne Faure\, Arlette de Breville\, Arlette Schneider\, Emilia Kolesarova\, Hélène Vanel\, Javotte Martin\, Irène Littman\, Madeleine Smith-Champion\,Marie Vassilieff…Marthe van Deryken\, Marie-Anne Lansiaux\, Mercédès Ducomet\, Myriam Bat-Yosef\, Odette Deray\, Suzanne Fontan\n\nEn partenariat avec la Villa Vassilieff – Pernod Ricard Fellowship\nA Nogent-sur-Marne : MABA / Maison Nationale des Artistes / Bibliothèque Smith-Lesouëf\n& à Paris : Villa Vassilieff \nMarie Vassilieff est la première femme artiste à entrer à la Maison Nationale des Artistes en 1952\, après une vie bien remplie. Elle fut suivie de bien d’autres\, qui ont créé à Nogent-sur-Marne dans les ateliers mis à leur disposition\, et parfois laissé leurs œuvres à la Fondation des Artistes. Nous souhaitons ici leur rendre hommage en présentant une sélection de peintures choisies dans les différentes réserves. \nAndrée Pradal\, Alice Santin\, Andrée Joubert\, Andrée Launay\, Anne Faure\, Arlette de Breville\, Arlette Schneider\, Emilia Kolesarova\, Hélène Vanel\, Javotte Martin\, Irène Littman\, Madeleine Smith-Champion\, Marthe van Deryken\, Marie-Anne Lansiaux\, Mercédès Ducomet\, Myriam Bat-Yosef\, Odette Deray\, Suzanne Fontan. \n  \nMichel François\, Scrabble\, 2019. Vidéo. \nLa matière\, qu’elle soit d’origine végétale\, artificielle est au coeur de la pratique de Michel François. Il l’étudie pour ses propriétés sculpturales\, faisant résonner dans un même élément les questions d’équilibre\, de volume et d’espace. En relation avec son environnement\, il l’intègre à d’autres médiums tels que la photographie\, la vidéo ou l’installation. De cette approche plurielle émerge une volonté de faire surgir des analogies formelles et des échos symboliques profondément personnels. Dans son film Scrabble (2019) réalisé pour l’exposition\, Michel François documente le quotidien d’un homme qui occupe ses journées à jouer au scrabble. Ce rituel pourrait sembler anodin s’il ne se ouait pas avec des jetons abimés\, presque indéchiffrables. La répétition quasi machinale de cette action questionne le sens de notre réalité : et si nous reproduisions constamment les mêmes erreurs ? Comment le savoir sans être informé ?Le film tente de représenter la mémoire que l’artiste garde de cette partie de scrabble : celle-ci s’efface à la fin par l’arrivée d’une lumière venant surexposer le jour. \n  \n      #bwg_container1_0 #bwg_container2_0 .bwg_masonry_thumb_0 {        text-align: center;        display: inline-block;        vertical-align: middle;              width: 100%;              border-radius: 0;        border: 0px none #CCCCCC;        background-color: #FFFFFF;        margin: 0;        opacity: 1.00;        filter: Alpha(opacity=100);      }            #bwg_container1_0 #bwg_container2_0 .bwg-container-0 .bwg-item {        padding-right: 4px;        padding-bottom: 4px;        max-width: 1080px;            }      #bwg_container1_0 #bwg_container2_0 .bwg-container-0 .bwg-item0 {        background-color: #FFFFFF;        border: 0px none #CCCCCC;        opacity: 1.00;        filter: Alpha(opacity=100);        border-radius: 0;      }      #bwg_container1_0 #bwg_container2_0 .bwg-container-0 .bwg-item1 img {        max-height: none;        max-width: 1080px;      }            @media only screen and (min-width: 480px) {        #bwg_container1_0 #bwg_container2_0 .bwg-container-0 .bwg-item1 img {        -webkit-transition: -webkit-transform .3s; transition: transform .3s;        }        #bwg_container1_0 #bwg_container2_0 .bwg-container-0 .bwg-item1 img:hover {          -ms-transform: scale(1.08);          -webkit-transform: scale(1.08);          transform: scale(1.08);        }		      }          	  #bwg_container1_0 #bwg_container2_0 .bwg-container-0 .bwg-title2\,    #bwg_container1_0 #bwg_container2_0 .bwg-container-0 .bwg-play-icon2\,    #bwg_container1_0 #bwg_container2_0 .bwg-container-0 .bwg-ecommerce2 {      max-height: 100%;      padding: 2px;      font-family: Ubuntu;      font-weight: bold;      font-size: 16px;      color: #323A45;    }    #bwg_container1_0 #bwg_container2_0 .bwg-container-0 .bwg-ecommerce2 {      color: #323A45;    }	  #bwg_container1_0 #bwg_container2_0 .bwg_masonry_thumbnails_0 {        position: relative;        background-color: rgba(255\, 255\, 255\, 0.00);        font-size: 0;		        width: 1084px;        max-width: 100%;					padding-left: 4px;			padding-top: 4px;			max-width: 100%;		    justify-content: center;            margin-left: auto;        margin-right: auto;      	}            @media only screen and (max-width: 1088px) {        #bwg_container1_0 #bwg_container2_0 .bwg_masonry_thumbnails_0 {          width: inherit;        }      }            #bwg_container1_0 #bwg_container2_0 .bwg_masonry_thumb_description_0 {        color: #323A45;        line-height: 1.4;        font-size: 16px;        font-family: Ubuntu;        text-align: justify;      }      #bwg_container1_0.bwg_thumbnails_masonry .wd_error p {          color: #323A45;      }      #bwg_container1_0 #bwg_container2_0 .bwg_gal_title_0 {        background-color: rgba(0\, 0\, 0\, 0);        color: #323A45;        display: block;        font-family: Ubuntu;        font-size: 16px;        font-weight: bold;        padding: 2px;        text-shadow: ;        text-align: center;      }                                                                                                                                                                              					                                  				                                                                                                                                          Vues de l'exposition "Une journée avec Marie Vassilieff" © Aurelien Mole                                                                              					                                  				                                                                                                                                          Vues de l'exposition "Une journée avec Marie Vassilieff" © Aurelien Mole                                                                              					                                  				                                                                                                                                          Vues de l'exposition "Une journée avec Marie Vassilieff" © Aurelien Mole                                                                              					                                  				                                                                                                                                          Vues de l'exposition "Une journée avec Marie Vassilieff" © Aurelien Mole                                                                              					                                  				                                                                                                                                          Vues de l'exposition "Une journée avec Marie Vassilieff" © Aurelien Mole                                                                              					                                  				                                                                                                                                          Vues de l'exposition "Une journée avec Marie Vassilieff" © Aurelien Mole                                                                              					                                  				                                                                                                                                          Vues de l'exposition "Une journée avec Marie Vassilieff" © Aurelien Mole                                                                              					                                  				                                                                                                                                           Marie Vassilieff et son masque\, photographie de Cami Stone\, 1929\, coll. CB                                          /*pagination styles*/      #bwg_container1_0 #bwg_container2_0 .tablenav-pages_0 {      text-align: center;      font-size: 12px;      font-family: Ubuntu;      font-weight: bold;      color: #666666;      margin: 6px 0 4px;      display: block;      height: 30px;      line-height: 30px;      }      @media only screen and (max-width : 320px) {      #bwg_container1_0 #bwg_container2_0 .displaying-num_0 {      display: none;      }      }      #bwg_container1_0 #bwg_container2_0 .displaying-num_0 {      font-size: 12px;      font-family: Ubuntu;      font-weight: bold;      color: #666666;      margin-right: 10px;      vertical-align: middle;      }      #bwg_container1_0 #bwg_container2_0 .paging-input_0 {      font-size: 12px;      font-family: Ubuntu;      font-weight: bold;      color: #666666;      vertical-align: middle;      }      #bwg_container1_0 #bwg_container2_0 .tablenav-pages_0 a.disabled\,      #bwg_container1_0 #bwg_container2_0 .tablenav-pages_0 a.disabled:hover\,      #bwg_container1_0 #bwg_container2_0 .tablenav-pages_0 a.disabled:focus {      cursor: default;      color: rgba(102\, 102\, 102\, 0.5);      }      #bwg_container1_0 #bwg_container2_0 .tablenav-pages_0 a {      cursor: pointer;      font-size: 12px;      font-family: Ubuntu;      font-weight: bold;      color: #666666;      text-decoration: none;      padding: 3px 6px;      margin: 0;      border-radius: 0;      border-style: solid;      border-width: 1px;      border-color: #E3E3E3;      background-color: #FFFFFF;      opacity: 1.00;      filter: Alpha(opacity=100);      box-shadow: 0;      transition: all 0.3s ease 0s;-webkit-transition: all 0.3s ease 0s;      }                                                    function spider_page_0(cur\, x\, y\, load_more) {        if (typeof load_more == "undefined") {          var load_more = false;        }        if (jQuery(cur).hasClass('disabled')) {          return false;        }        var items_county_0 = 1;        switch (y) {          case 1:            if (x >= items_county_0) {              document.getElementById('page_number_0').value = items_county_0;            }            else {              document.getElementById('page_number_0').value = x + 1;            }            break;          case 2:            document.getElementById('page_number_0').value = items_county_0;            break;          case -1:            if (x == 1) {              document.getElementById('page_number_0').value = 1;            }            else {              document.getElementById('page_number_0').value = x - 1;            }            break;          case -2:            document.getElementById('page_number_0').value = 1;            break;          default:            document.getElementById('page_number_0').value = 1;        }        bwg_ajax('gal_front_form_0'\, '0'\, 'bwg_thumbnails_masonry_0'\, '0'\, ''\, ''\, 0\, ''\, ''\, load_more);      }      jQuery('.first-page-0').on('click'\, function () {        spider_page_0(this\, 1\, -2\, 'numeric');      });      jQuery('.prev-page-0').on('click'\, function () {        spider_page_0(this\, 1\, -1\, 'numeric');        return false;      });      jQuery('.next-page-0').on('click'\, function () {        spider_page_0(this\, 1\, 1\, 'numeric');        return false;      });      jQuery('.last-page-0').on('click'\, function () {        spider_page_0(this\, 1\, 2\, 'numeric');      });      jQuery('.bwg_load_btn_0').on('click'\, function () {        spider_page_0(this\, 1\, 1\, true);        return false;      });                                                  #bwg_container1_0 #bwg_container2_0 #spider_popup_overlay_0 {          background-color: #EEEEEE;          opacity: 0.60;          filter: Alpha(opacity=60);          }                                                        jQuery(document).ready(function () {        bwg_main_ready();      });        \n\n
URL:https://www.fondationdesartistes.fr/evenement/mna/a-day-with-marie-vassilieff/
LOCATION:Maison nationale des artistes\, La Maison nationale des artistes\, 14\, rue Charles VII 94130 Nogent-sur-Marne\, 94130\, France
CATEGORIES:Exposition Mna,Homepage Mna
ATTACH;FMTTYPE=image/jpeg:https://www.fondationdesartistes.fr/wp-content/uploads/2018/12/1929-Marie-Vassilieff-et-son-masque-photographie-de-Cami-Stone-coll-CB-1.jpg
END:VEVENT
BEGIN:VEVENT
DTSTART;VALUE=DATE:20190516
DTEND;VALUE=DATE:20190722
DTSTAMP:20260425T115913
CREATED:20190124T152515Z
LAST-MODIFIED:20250701T124532Z
UID:1408-1557964800-1563753599@www.fondationdesartistes.fr
SUMMARY:Une journée avec Marie Vassilieff
DESCRIPTION:Artistes :\nMercedes Azpilicueta\, Carlotta Bailly-Borg\, Yto Barrada\, Michel François\, Christian Hidaka\, Laura Lamiel\, Mohamed Larbi Rahhali\, Anne Le Troter\, Flora Moscovici\, Emilie Notéris\, Liv Schulman\, Thu-Van Tran\, Marie Vassilieff\nEn partenariat avec la Villa Vassilieff – Pernod Ricard Fellowship\nÀ Nogent-sur-Marne : MABA / Maison Nationale des Artistes / Bibliothèque Smith-Lesouëf\n& à Paris : Villa Vassilieff \nAutour d’un texte écrit par l’auteure Emilie Noteris\, dérive spéculative entremêlant faits historiques\, anecdotes\, photographie et fiction autour de l’artiste Marie Vassilieff\, la FNAGP et la Villa Vassilieff – Pernod Ricard Fellowship rendent hommage à Marie Vassilieff au travers d’une exposition collective Une journée avec Marie Vassilieff qui se déploie dans quatre espaces que l’artiste\, figure charismatique du Montparnasse des années 30\, a fréquenté : les demeures du 14 et du 16 rue Charles VII à Nogent-sur-Marne (respectivement la Maison nationale des artistes et la MABA)\, la Bibliothèque Smith-Lesouëf et la Villa Vassilieff. \nArtiste moderne – approfondissant le cubisme et développant des approches dada d’assemblage et de fusion de l’art et de la vie – femme\, apatride\, Marie Vassilieff rejoint par ses recherches\, sa démarche artistique et sa vie des attitudes résolument contemporaines. \nLes questions liées au genre\, comme le positionnement artistique de l’artiste (variété des média\, confusion de l’art et de la vie\, transferts géographiques et nationaux) nourrissent\, dans l’exposition\, des allers-retours et des dialogues entre les productions d’artistes contemporains et celles de Marie Vassilieff appelant une approche transversale de la vie et de l’œuvre de cette artiste femme qui fut la première à décider de s’installer à la Maison Nationale des Artistes. Une façon de découvrir ou de redécouvrir le parcours et les productions d’une artiste trop souvent oubliée de nos livres d’histoire. \nMarie Vassilieff est la première femme artiste à résider à la Maison nationale des artistes. \nTéléchargez le « Journal de l’exposition » \nTéléchargez la Feuillel de salle \nTéléchargez le « Petit Parcours » \n  \nAutour de l’exposition\nDimanche 26 mai\, 11h :\nCafé-découverte \nMardi 4 juin\, 18h30 :\nLes Petits médiateurs CE1\, restitution de projet \nMercredi 5 juin\, 15h :\nPetit Parcours\, partie 1 \nMercredi 19 juin\, 15h :\nPetit parcours\, partie 2 \nLundi 24 juin\, 14h30 :\nCafé-découverte \nVendredi 28 juin\, 22h30 : \nProjection en plein air du film La la land (2016) de Damien Chazelle \nSamedi 29 juin\, 16h : \nRencontre avec les commissaires de l’exposition \nSamedi 29 juin\, 22h30 : \nProjection en plein air du film Grease (1978) de Randal Kleiser \nJeudi 29 & vendredi 30 août\, 10h-17h :\nStage d’été de création artistique autour du parc de la MABA\nTarif et renseignements\, nous contacter \n  \nÉvénements gratuits\, sur réservation\npar email : maba@fondationdesartistes.fr\npar téléphone : 01 48 71 90 07 \nDates & Horaires :\nDu 16 mai au 21 juillet 2019\n13 h à 18h du lundi au vendredi\n12h à 18h le week-end\nFermée les mardis et les jours fériés\nEntrée libre \nPour tous les groupes\, scolaires ou demande de visites\, rendez-vous dans la rubrique publics. \nComment aller à la MABA ? \n      #bwg_container1_1 #bwg_container2_1 .bwg_masonry_thumb_1 {        text-align: center;        display: inline-block;        vertical-align: middle;              width: 100%;              border-radius: 0;        border: 0px none #CCCCCC;        background-color: #FFFFFF;        margin: 0;        opacity: 1.00;        filter: Alpha(opacity=100);      }            #bwg_container1_1 #bwg_container2_1 .bwg-container-1 .bwg-item {        padding-right: 4px;        padding-bottom: 4px;        max-width: 1080px;            }      #bwg_container1_1 #bwg_container2_1 .bwg-container-1 .bwg-item0 {        background-color: #FFFFFF;        border: 0px none #CCCCCC;        opacity: 1.00;        filter: Alpha(opacity=100);        border-radius: 0;      }      #bwg_container1_1 #bwg_container2_1 .bwg-container-1 .bwg-item1 img {        max-height: none;        max-width: 1080px;      }            @media only screen and (min-width: 480px) {        #bwg_container1_1 #bwg_container2_1 .bwg-container-1 .bwg-item1 img {        -webkit-transition: -webkit-transform .3s; transition: transform .3s;        }        #bwg_container1_1 #bwg_container2_1 .bwg-container-1 .bwg-item1 img:hover {          -ms-transform: scale(1.08);          -webkit-transform: scale(1.08);          transform: scale(1.08);        }		      }          	  #bwg_container1_1 #bwg_container2_1 .bwg-container-1 .bwg-title2\,    #bwg_container1_1 #bwg_container2_1 .bwg-container-1 .bwg-play-icon2\,    #bwg_container1_1 #bwg_container2_1 .bwg-container-1 .bwg-ecommerce2 {      max-height: 100%;      padding: 2px;      font-family: Ubuntu;      font-weight: bold;      font-size: 16px;      color: #323A45;    }    #bwg_container1_1 #bwg_container2_1 .bwg-container-1 .bwg-ecommerce2 {      color: #323A45;    }	  #bwg_container1_1 #bwg_container2_1 .bwg_masonry_thumbnails_1 {        position: relative;        background-color: rgba(255\, 255\, 255\, 0.00);        font-size: 0;		        width: 1084px;        max-width: 100%;					padding-left: 4px;			padding-top: 4px;			max-width: 100%;		    justify-content: center;            margin-left: auto;        margin-right: auto;      	}            @media only screen and (max-width: 1088px) {        #bwg_container1_1 #bwg_container2_1 .bwg_masonry_thumbnails_1 {          width: inherit;        }      }            #bwg_container1_1 #bwg_container2_1 .bwg_masonry_thumb_description_1 {        color: #323A45;        line-height: 1.4;        font-size: 16px;        font-family: Ubuntu;        text-align: justify;      }      #bwg_container1_1.bwg_thumbnails_masonry .wd_error p {          color: #323A45;      }      #bwg_container1_1 #bwg_container2_1 .bwg_gal_title_1 {        background-color: rgba(0\, 0\, 0\, 0);        color: #323A45;        display: block;        font-family: Ubuntu;        font-size: 16px;        font-weight: bold;        padding: 2px;        text-shadow: ;        text-align: center;      }                                                                                                                                                                              					                                  				                                                                                                                                          "A day with Marie Vassilieff"\, Pierre Delbo (photographe)\, "Costume Arlequine de Marie Vassilieff pour le Bal Banal"\, 1924\, Collection Claude Bernès. Droits réservés.                                                                              					                                  				                                                                                                                                          Mercedes Azpilicueta\,  "Les Trois Arlequins"\, 2019. Vue de l'exposition "Une journée avec Marie Vassilieff". Crédit Photo : Aurélien Mole                                                                              					                                  				                                                                                                                                          Christian Hidaka\, "Avant\, Pendant et Après"\, 2019. Vue de l'exposition "Une journée avec Marie Vassilieff".Crédit Photo : Aurélien Mole                                                                              					                                  				                                                                                                                                          Yto Barrada\, "Nuancier"\, 2019. Vue de l'exposition "Une journée avec Marie Vassilieff".Crédit Photo : Aurélien Mole                                                                              					                                  				                                                                                                                                          Marie Vassilieff et Mohammed Larbi Rahhali\, vitrine éléments. Vue de l'exposition "Une journée avec Marie Vassilieff".Crédit Photo : Aurélien Mole                                                                              					                                  				                                                                                                                                          Thu Van Tran\, "Pénétrable"\, 2019. Vue de l'exposition "Une journée avec Marie Vassilieff".Crédit Photo : Aurélien Mole                                          /*pagination styles*/      #bwg_container1_1 #bwg_container2_1 .tablenav-pages_1 {      text-align: center;      font-size: 12px;      font-family: Ubuntu;      font-weight: bold;      color: #666666;      margin: 6px 0 4px;      display: block;      height: 30px;      line-height: 30px;      }      @media only screen and (max-width : 320px) {      #bwg_container1_1 #bwg_container2_1 .displaying-num_1 {      display: none;      }      }      #bwg_container1_1 #bwg_container2_1 .displaying-num_1 {      font-size: 12px;      font-family: Ubuntu;      font-weight: bold;      color: #666666;      margin-right: 10px;      vertical-align: middle;      }      #bwg_container1_1 #bwg_container2_1 .paging-input_1 {      font-size: 12px;      font-family: Ubuntu;      font-weight: bold;      color: #666666;      vertical-align: middle;      }      #bwg_container1_1 #bwg_container2_1 .tablenav-pages_1 a.disabled\,      #bwg_container1_1 #bwg_container2_1 .tablenav-pages_1 a.disabled:hover\,      #bwg_container1_1 #bwg_container2_1 .tablenav-pages_1 a.disabled:focus {      cursor: default;      color: rgba(102\, 102\, 102\, 0.5);      }      #bwg_container1_1 #bwg_container2_1 .tablenav-pages_1 a {      cursor: pointer;      font-size: 12px;      font-family: Ubuntu;      font-weight: bold;      color: #666666;      text-decoration: none;      padding: 3px 6px;      margin: 0;      border-radius: 0;      border-style: solid;      border-width: 1px;      border-color: #E3E3E3;      background-color: #FFFFFF;      opacity: 1.00;      filter: Alpha(opacity=100);      box-shadow: 0;      transition: all 0.3s ease 0s;-webkit-transition: all 0.3s ease 0s;      }                                                    function spider_page_1(cur\, x\, y\, load_more) {        if (typeof load_more == "undefined") {          var load_more = false;        }        if (jQuery(cur).hasClass('disabled')) {          return false;        }        var items_county_1 = 1;        switch (y) {          case 1:            if (x >= items_county_1) {              document.getElementById('page_number_1').value = items_county_1;            }            else {              document.getElementById('page_number_1').value = x + 1;            }            break;          case 2:            document.getElementById('page_number_1').value = items_county_1;            break;          case -1:            if (x == 1) {              document.getElementById('page_number_1').value = 1;            }            else {              document.getElementById('page_number_1').value = x - 1;            }            break;          case -2:            document.getElementById('page_number_1').value = 1;            break;          default:            document.getElementById('page_number_1').value = 1;        }        bwg_ajax('gal_front_form_1'\, '1'\, 'bwg_thumbnails_masonry_1'\, '0'\, ''\, ''\, 0\, ''\, ''\, load_more);      }      jQuery('.first-page-1').on('click'\, function () {        spider_page_1(this\, 1\, -2\, 'numeric');      });      jQuery('.prev-page-1').on('click'\, function () {        spider_page_1(this\, 1\, -1\, 'numeric');        return false;      });      jQuery('.next-page-1').on('click'\, function () {        spider_page_1(this\, 1\, 1\, 'numeric');        return false;      });      jQuery('.last-page-1').on('click'\, function () {        spider_page_1(this\, 1\, 2\, 'numeric');      });      jQuery('.bwg_load_btn_1').on('click'\, function () {        spider_page_1(this\, 1\, 1\, true);        return false;      });                                                  #bwg_container1_1 #bwg_container2_1 #spider_popup_overlay_1 {          background-color: #EEEEEE;          opacity: 0.60;          filter: Alpha(opacity=60);          }                                                        jQuery(document).ready(function () {        bwg_main_ready();      });        \n
URL:https://www.fondationdesartistes.fr/evenement/maba/a-day-with-marie-vassilieff-2/
LOCATION:MABA\, Maison d'Art Bernard Anthonioz\, 16 rue Charles VII 94130 Nogent-sur-Marne\, 94130\, 94130\, France
CATEGORIES:Exposition MABA,Hompage MABA
ATTACH;FMTTYPE=image/jpeg:https://www.fondationdesartistes.fr/wp-content/uploads/2018/12/A-day-with-Marie-Vassilieff-Pierre-Delbo-photographe-Costume-Arlequine-de-Marie-Vassilieff-pour-le-Bal-Banal-1924-Collection-Claude-Bernès.-Droits-réservés..jpg
END:VEVENT
END:VCALENDAR