BEGIN:VCALENDAR
VERSION:2.0
PRODID:-//Fondation des Artistes - ECPv4.7.2//NONSGML v1.0//EN
CALSCALE:GREGORIAN
METHOD:PUBLISH
X-WR-CALNAME:Fondation des Artistes
X-ORIGINAL-URL:https://www.fondationdesartistes.fr
X-WR-CALDESC:Évènements pour Fondation des Artistes
BEGIN:VEVENT
DTSTART;VALUE=DATE:20150522
DTEND;VALUE=DATE:20150527
DTSTAMP:20260421T083838
CREATED:20190325T134209Z
LAST-MODIFIED:20190329T220723Z
UID:2266-1432252800-1432684799@www.fondationdesartistes.fr
SUMMARY:Peintures
DESCRIPTION:Elle a commencé à travailler la nature morte à l’âge de douze ans. \nAprès ses débuts dans les Académies de Paris\, elle réalise des toiles figuratives. Attirée par l’abstraction\, elle se détache peu à peu de la figuration pour une évocation plus libre et  dynamique. \n«A la base\, le dessin est une obligation que la main abandonne. A l’ instant où  l’œil découvre le hasard qu’il faut saisir\, c’est la sensation qui l’emporte et la création est évidente\, si tôt  qu’on ne se sent  plus obligé de procéder à un rituel classique. Tous les hasards sont alors bon à prendre » (Lilian  Farelle). \nPeintures à l’huile aux accents profonds\, encres et aquarelles sensuelles\, Lilian Farelle aime à se jouer des lignes et des couleurs\, conférant aux unes la hardiesse\, aux autres des vibrations mystérieuses. \n«  Farelle ouvre\, vers le large\, portes et fenêtres. Pleinement sensoriel même dans ses éclats\, même dans ce qui pourrait sembler informel\, son art\, servi par cette technique indispensable et immuable depuis que la peinture existe\, nous respecte\, nous entraîne vers des ailleurs et nous permet toujours l’espoir » (André Hambourg). \nElle expose au Salon des Femmes Peintres\, à la Société Nationale des Beaux-Arts et a participé à la Biennale de Trouville. Le Musée de Trouville conserve une de ses aquarelles. \n  \n  \n  \n  \n  \n
URL:https://www.fondationdesartistes.fr/evenement/mna/peintures/
CATEGORIES:Exposition Mna
ATTACH;FMTTYPE=image/jpeg:https://www.fondationdesartistes.fr/wp-content/uploads/2019/03/FARELLE-Nuits-dEspagne-huile-sur-toile-100X81-AFFICHES-CARTON.jpg
END:VEVENT
END:VCALENDAR