BEGIN:VCALENDAR
VERSION:2.0
PRODID:-//Fondation des Artistes - ECPv4.7.2//NONSGML v1.0//EN
CALSCALE:GREGORIAN
METHOD:PUBLISH
X-WR-CALNAME:Fondation des Artistes
X-ORIGINAL-URL:https://www.fondationdesartistes.fr
X-WR-CALDESC:Évènements pour Fondation des Artistes
BEGIN:VEVENT
DTSTART;VALUE=DATE:20260423
DTEND;VALUE=DATE:20260720
DTSTAMP:20260422T095549
CREATED:20251215T154218Z
LAST-MODIFIED:20260421T214959Z
UID:15807-1776902400-1784505599@www.fondationdesartistes.fr
SUMMARY:Anniversarium Stress
DESCRIPTION:Artistes : \nSylvie Auvray\, Claude Closky\, Vincent Olinet\, Cécile Paris\, Emma Passera\, Jean-Francois Peschot\, Elisa Pône\, Tony Regazzoni\, Franck Scurti\, Jeanne Susplugas\, Turpentine\nCommissaire :\nCaroline Cournède\n  \n«Oops !… I Did It Again… Got Lost in the Game»¹ \nUne année après l’autre\, on a joué et rejoué et puis soudain\, on a (déjà!) 20 ans. Happy face et cotillons\, désir et désordre\, être cigale et non fourmi et continuer à chanter et danser tout l’été et au-delà et fêter en grand ce nouvel anniversaire «de grand» comme diraient les enfants. Champs libres\, chants gais\, hymnes d’amour ou de révolte\, Anniversarium Stress c’est cette ambivalence de la fête\, exultation ou exaltation des corps\, s’abandonner\, s’épuiser dans cet exercice autant rite que célébration du temps qui\, inexorablement\, passe. Mais pas de Panique au dancing cette fois\, juste expérimenter\, toujours\, pour trouver les bons «beats»: la playlist\, les invités\, l’atmosphère\, l’élément de surprise.\nÉtonnantes\, ces similitudes entre l’organisation d’un anniversaire et d’une exposition. Allez\, on y est presque: 3\, 2\, 1… c’est parti! On éteint les lumières et on prend une large respiration… Maintenant\, à nous\, à vous\, de jouer et\, surtout\, abandonnons-nous\, prenons le risque de nous perdre pour mieux recommencer à nouveau. \n«I Think I Did It Again» \n¹Britney Spears\, «Oops !… I Did It Again\,» sur Oops !… I Did It Again\,\nJive Records\, 2000. \n  \n      #bwg_container1_0 #bwg_container2_0 .bwg_masonry_thumb_0 {        text-align: center;        display: inline-block;        vertical-align: middle;              width: 100%;              border-radius: 0;        border: 0px none #CCCCCC;        background-color: #FFFFFF;        margin: 0;        opacity: 1.00;        filter: Alpha(opacity=100);      }            #bwg_container1_0 #bwg_container2_0 .bwg-container-0 .bwg-item {        padding-right: 4px;        padding-bottom: 4px;        max-width: 1080px;            }      #bwg_container1_0 #bwg_container2_0 .bwg-container-0 .bwg-item0 {        background-color: #FFFFFF;        border: 0px none #CCCCCC;        opacity: 1.00;        filter: Alpha(opacity=100);        border-radius: 0;      }      #bwg_container1_0 #bwg_container2_0 .bwg-container-0 .bwg-item1 img {        max-height: none;        max-width: 1080px;      }            @media only screen and (min-width: 480px) {        #bwg_container1_0 #bwg_container2_0 .bwg-container-0 .bwg-item1 img {        -webkit-transition: -webkit-transform .3s; transition: transform .3s;        }        #bwg_container1_0 #bwg_container2_0 .bwg-container-0 .bwg-item1 img:hover {          -ms-transform: scale(1.08);          -webkit-transform: scale(1.08);          transform: scale(1.08);        }		      }          	  #bwg_container1_0 #bwg_container2_0 .bwg-container-0 .bwg-title2\,    #bwg_container1_0 #bwg_container2_0 .bwg-container-0 .bwg-play-icon2\,    #bwg_container1_0 #bwg_container2_0 .bwg-container-0 .bwg-ecommerce2 {      max-height: 100%;      padding: 2px;      font-family: Ubuntu;      font-weight: bold;      font-size: 16px;      color: #323A45;    }    #bwg_container1_0 #bwg_container2_0 .bwg-container-0 .bwg-ecommerce2 {      color: #323A45;    }	  #bwg_container1_0 #bwg_container2_0 .bwg_masonry_thumbnails_0 {        position: relative;        background-color: rgba(255\, 255\, 255\, 0.00);        font-size: 0;		        width: 1084px;        max-width: 100%;					padding-left: 4px;			padding-top: 4px;			max-width: 100%;		    justify-content: center;            margin-left: auto;        margin-right: auto;      	}            @media only screen and (max-width: 1088px) {        #bwg_container1_0 #bwg_container2_0 .bwg_masonry_thumbnails_0 {          width: inherit;        }      }            #bwg_container1_0 #bwg_container2_0 .bwg_masonry_thumb_description_0 {        color: #323A45;        line-height: 1.4;        font-size: 16px;        font-family: Ubuntu;        text-align: justify;      }      #bwg_container1_0.bwg_thumbnails_masonry .wd_error p {          color: #323A45;      }      #bwg_container1_0 #bwg_container2_0 .bwg_gal_title_0 {        background-color: rgba(0\, 0\, 0\, 0);        color: #323A45;        display: block;        font-family: Ubuntu;        font-size: 16px;        font-weight: bold;        padding: 2px;        text-shadow: ;        text-align: center;      }                                                                                                                                                                              					                                  				                                                                                                                                                         /*pagination styles*/      #bwg_container1_0 #bwg_container2_0 .tablenav-pages_0 {      text-align: center;      font-size: 12px;      font-family: Ubuntu;      font-weight: bold;      color: #666666;      margin: 6px 0 4px;      display: block;      height: 30px;      line-height: 30px;      }      @media only screen and (max-width : 320px) {      #bwg_container1_0 #bwg_container2_0 .displaying-num_0 {      display: none;      }      }      #bwg_container1_0 #bwg_container2_0 .displaying-num_0 {      font-size: 12px;      font-family: Ubuntu;      font-weight: bold;      color: #666666;      margin-right: 10px;      vertical-align: middle;      }      #bwg_container1_0 #bwg_container2_0 .paging-input_0 {      font-size: 12px;      font-family: Ubuntu;      font-weight: bold;      color: #666666;      vertical-align: middle;      }      #bwg_container1_0 #bwg_container2_0 .tablenav-pages_0 a.disabled\,      #bwg_container1_0 #bwg_container2_0 .tablenav-pages_0 a.disabled:hover\,      #bwg_container1_0 #bwg_container2_0 .tablenav-pages_0 a.disabled:focus {      cursor: default;      color: rgba(102\, 102\, 102\, 0.5);      }      #bwg_container1_0 #bwg_container2_0 .tablenav-pages_0 a {      cursor: pointer;      font-size: 12px;      font-family: Ubuntu;      font-weight: bold;      color: #666666;      text-decoration: none;      padding: 3px 6px;      margin: 0;      border-radius: 0;      border-style: solid;      border-width: 1px;      border-color: #E3E3E3;      background-color: #FFFFFF;      opacity: 1.00;      filter: Alpha(opacity=100);      box-shadow: 0;      transition: all 0.3s ease 0s;-webkit-transition: all 0.3s ease 0s;      }                                                    function spider_page_0(cur\, x\, y\, load_more) {        if (typeof load_more == "undefined") {          var load_more = false;        }        if (jQuery(cur).hasClass('disabled')) {          return false;        }        var items_county_0 = 1;        switch (y) {          case 1:            if (x >= items_county_0) {              document.getElementById('page_number_0').value = items_county_0;            }            else {              document.getElementById('page_number_0').value = x + 1;            }            break;          case 2:            document.getElementById('page_number_0').value = items_county_0;            break;          case -1:            if (x == 1) {              document.getElementById('page_number_0').value = 1;            }            else {              document.getElementById('page_number_0').value = x - 1;            }            break;          case -2:            document.getElementById('page_number_0').value = 1;            break;          default:            document.getElementById('page_number_0').value = 1;        }        bwg_ajax('gal_front_form_0'\, '0'\, 'bwg_thumbnails_masonry_0'\, '0'\, ''\, ''\, 0\, ''\, ''\, load_more);      }      jQuery('.first-page-0').on('click'\, function () {        spider_page_0(this\, 1\, -2\, 'numeric');      });      jQuery('.prev-page-0').on('click'\, function () {        spider_page_0(this\, 1\, -1\, 'numeric');        return false;      });      jQuery('.next-page-0').on('click'\, function () {        spider_page_0(this\, 1\, 1\, 'numeric');        return false;      });      jQuery('.last-page-0').on('click'\, function () {        spider_page_0(this\, 1\, 2\, 'numeric');      });      jQuery('.bwg_load_btn_0').on('click'\, function () {        spider_page_0(this\, 1\, 1\, true);        return false;      });                                                  #bwg_container1_0 #bwg_container2_0 #spider_popup_overlay_0 {          background-color: #EEEEEE;          opacity: 0.60;          filter: Alpha(opacity=60);          }                                                        jQuery(document).ready(function () {        bwg_main_ready();      });        \nAnniversarium Stress : image Jean Marc Ballée \nAUTOUR DE L’EXPOSITION\n\nMercredi 22 avril\, 18h-21h30 : \nVernissage de l’exposition \nEn entrée libre \nLundi 18 mai\, 14h30 :\nCafé découverte \nMercredi 27 mai\, 15h :\nPetit Parcours \nDimanche 7 juin\, 11h :\nCafé découverte \nLundi 29 juin\, 14h30 :\nCafé découverte \nDimanche 5 juillet\, 15h-17h :\nAtelier en famille \nPour plus de renseignements\, rendez-vous dans la rubrique Événements\nÉvénements gratuits\, sur réservation obligatoire\nmaba@fondationdesartistes.fr\nt : 01 48 71 90 07 \n  \nDATES & HORAIRES :\nDu 23 avril 2026 au 19 juillet 2026\n13h à 18h du lundi au vendredi\n12h à 18h le week-end\nFermée les mardis et les jours fériés\nEntrée libre\n \nPour tous les groupes\, scolaires ou demande de visites\, rendez-vous dans la rubrique Publics. \nComment aller à la MABA ? \n
URL:https://www.fondationdesartistes.fr/evenement/maba/anniversarium-stress/
CATEGORIES:Exposition MABA,Hompage MABA
ATTACH;FMTTYPE=image/gif:https://www.fondationdesartistes.fr/wp-content/uploads/2025/12/DOC-NUMERIQUE-2.gif
END:VEVENT
END:VCALENDAR