BEGIN:VCALENDAR
VERSION:2.0
PRODID:-//Fondation des Artistes - ECPv4.7.2//NONSGML v1.0//EN
CALSCALE:GREGORIAN
METHOD:PUBLISH
X-WR-CALNAME:Fondation des Artistes
X-ORIGINAL-URL:https://www.fondationdesartistes.fr
X-WR-CALDESC:Évènements pour Fondation des Artistes
BEGIN:VEVENT
DTSTART;TZID=Europe/Paris:20201104T163000
DTEND;TZID=Europe/Paris:20201104T173000
DTSTAMP:20260424T164533
CREATED:20201104T094930Z
LAST-MODIFIED:20201104T095312Z
UID:6593-1604507400-1604511000@www.fondationdesartistes.fr
SUMMARY:Thé philo\, conversation philosophique avec Gunter Gorhan
DESCRIPTION:La Maison nationale des artistes accueille Gunter Gorhan  pour un thé philo le mercredi 4 novembre à 16h30 pour une conversation philosophique autour de la question  « A quoi sert la philosophie? » \n
URL:https://www.fondationdesartistes.fr/evenement/evenement-mna/the-philo-conversation-philosophique-avec-gunter-gorhan-4/
CATEGORIES:Évènement Mna
ATTACH;FMTTYPE=image/jpeg:https://www.fondationdesartistes.fr/wp-content/uploads/2020/11/Thé-philo-conversation-philiosophique-avec-Gunter-Gorhan-1.jpg
END:VEVENT
END:VCALENDAR