BEGIN:VCALENDAR
VERSION:2.0
PRODID:-//Fondation des Artistes - ECPv4.7.2//NONSGML v1.0//EN
CALSCALE:GREGORIAN
METHOD:PUBLISH
X-WR-CALNAME:Fondation des Artistes
X-ORIGINAL-URL:https://www.fondationdesartistes.fr
X-WR-CALDESC:Évènements pour Fondation des Artistes
BEGIN:VEVENT
DTSTART;TZID=Europe/Paris:20240326T163000
DTEND;TZID=Europe/Paris:20240326T173000
DTSTAMP:20260424T184744
CREATED:20231205T105334Z
LAST-MODIFIED:20240304T103406Z
UID:12327-1711470600-1711474200@www.fondationdesartistes.fr
SUMMARY:Spectacle: "Le bel âge"
DESCRIPTION:Deux clowns naïfs\, (Carole Bosson et Jean-Pierre Weyland) interprètent un couple de sa rencontre jusqu’à la naissance puis l’éducation d’un enfant en passant par les conflits\, les réconciliations… Avec énergie\, ils affrontent les difficultés mais aussi les joies de vivre à travers le temps. Jusqu’à atteindre « le bel âge » celui du moment présent à goûter sans modération… \n
URL:https://www.fondationdesartistes.fr/evenement/evenement-mna/spectacle-le-bel-age/
CATEGORIES:Évènement Mna
ATTACH;FMTTYPE=image/jpeg:https://www.fondationdesartistes.fr/wp-content/uploads/2023/12/20221206_135941.jpg
END:VEVENT
END:VCALENDAR