BEGIN:VCALENDAR
VERSION:2.0
PRODID:-//Fondation des Artistes - ECPv4.7.2//NONSGML v1.0//EN
CALSCALE:GREGORIAN
METHOD:PUBLISH
X-WR-CALNAME:Fondation des Artistes
X-ORIGINAL-URL:https://www.fondationdesartistes.fr
X-WR-CALDESC:Évènements pour Fondation des Artistes
BEGIN:VEVENT
DTSTART;TZID=Europe/Paris:20220610T163000
DTEND;TZID=Europe/Paris:20220610T173000
DTSTAMP:20260422T020801
CREATED:20220405T100138Z
LAST-MODIFIED:20220405T112251Z
UID:9157-1654878600-1654882200@www.fondationdesartistes.fr
SUMMARY:Conférence: "Les Dames du Marais " par Bernadette Crampont-Courseau
DESCRIPTION:Bernadette Crampont-Courseau continue à proposer des passionnantes balades virtuelles à Paris. Le 10 juin elle vient présenter « Les Dames du Marais « . Connues ou moins connues\, ces femmes ont marqué leur époque. Toutes ont vécu dans un quartier bouillonnant d’activité où se rencontraient tous les aristocrates et intellectuels de leur époque : Le Marais. \n  \n  \n
URL:https://www.fondationdesartistes.fr/evenement/evenement-mna/conference-les-dames-du-marais-par-bernadette-crampont-courseau/
CATEGORIES:Évènement Mna
ATTACH;FMTTYPE=image/png:https://www.fondationdesartistes.fr/wp-content/uploads/2022/04/image.png
END:VEVENT
END:VCALENDAR