BEGIN:VCALENDAR
VERSION:2.0
PRODID:-//Fondation des Artistes - ECPv4.7.2//NONSGML v1.0//EN
CALSCALE:GREGORIAN
METHOD:PUBLISH
X-WR-CALNAME:Fondation des Artistes
X-ORIGINAL-URL:https://www.fondationdesartistes.fr
X-WR-CALDESC:Évènements pour Fondation des Artistes
BEGIN:VEVENT
DTSTART;TZID=Europe/Paris:20191124T163000
DTEND;TZID=Europe/Paris:20191124T173000
DTSTAMP:20260423T170916
CREATED:20191024T133918Z
LAST-MODIFIED:20191119T224620Z
UID:4703-1574613000-1574616600@www.fondationdesartistes.fr
SUMMARY:Concert en hommage à Offenbach
DESCRIPTION:Les élèves de la classe de chant lyrique de Françoise Verdier du Conservatoire municipal Francis Poulenc de Nogent-sur Marne vous convient à un voyage musical pour célébrer le bicentenaire de Jacques Offenbach. \nEntrée libre\, sous réserve de places disponibles. \nt : 01 48 71 28 08 \n
URL:https://www.fondationdesartistes.fr/evenement/evenement-mna/concert-20/
CATEGORIES:Évènement Mna
ATTACH;FMTTYPE=image/jpeg:https://www.fondationdesartistes.fr/wp-content/uploads/2019/10/23376466_1201155396652962_7928563384648579139_n.jpg
END:VEVENT
END:VCALENDAR