BEGIN:VCALENDAR
VERSION:2.0
PRODID:-//Fondation des Artistes - ECPv4.7.2//NONSGML v1.0//EN
CALSCALE:GREGORIAN
METHOD:PUBLISH
X-WR-CALNAME:Fondation des Artistes
X-ORIGINAL-URL:https://www.fondationdesartistes.fr
X-WR-CALDESC:Évènements pour Fondation des Artistes
BEGIN:VEVENT
DTSTART;VALUE=DATE:20200901
DTEND;VALUE=DATE:20210601
DTSTAMP:20260423T051429
CREATED:20210406T141016Z
LAST-MODIFIED:20210427T132737Z
UID:7306-1598918400-1622505599@www.fondationdesartistes.fr
SUMMARY:Résidence en milieu scolaire de l'artiste Sébastien Gouju
DESCRIPTION:      #bwg_container1_0 #bwg_container2_0 .bwg_masonry_thumb_0 {        text-align: center;        display: inline-block;        vertical-align: middle;              width: 100%;              border-radius: 0;        border: 0px none #CCCCCC;        background-color: #FFFFFF;        margin: 0;        opacity: 1.00;        filter: Alpha(opacity=100);      }            #bwg_container1_0 #bwg_container2_0 .bwg-container-0 .bwg-item {        padding-right: 4px;        padding-bottom: 4px;        max-width: 1080px;            }      #bwg_container1_0 #bwg_container2_0 .bwg-container-0 .bwg-item0 {        background-color: #FFFFFF;        border: 0px none #CCCCCC;        opacity: 1.00;        filter: Alpha(opacity=100);        border-radius: 0;      }      #bwg_container1_0 #bwg_container2_0 .bwg-container-0 .bwg-item1 img {        max-height: none;        max-width: 1080px;      }            @media only screen and (min-width: 480px) {        #bwg_container1_0 #bwg_container2_0 .bwg-container-0 .bwg-item1 img {        -webkit-transition: -webkit-transform .3s; transition: transform .3s;        }        #bwg_container1_0 #bwg_container2_0 .bwg-container-0 .bwg-item1 img:hover {          -ms-transform: scale(1.08);          -webkit-transform: scale(1.08);          transform: scale(1.08);        }		      }          	  #bwg_container1_0 #bwg_container2_0 .bwg-container-0 .bwg-title2\,    #bwg_container1_0 #bwg_container2_0 .bwg-container-0 .bwg-play-icon2\,    #bwg_container1_0 #bwg_container2_0 .bwg-container-0 .bwg-ecommerce2 {      max-height: 100%;      padding: 2px;      font-family: Ubuntu;      font-weight: bold;      font-size: 16px;      color: #323A45;    }    #bwg_container1_0 #bwg_container2_0 .bwg-container-0 .bwg-ecommerce2 {      color: #323A45;    }	  #bwg_container1_0 #bwg_container2_0 .bwg_masonry_thumbnails_0 {        position: relative;        background-color: rgba(255\, 255\, 255\, 0.00);        font-size: 0;		        width: 1084px;        max-width: 100%;					padding-left: 4px;			padding-top: 4px;			max-width: 100%;		    justify-content: center;            margin-left: auto;        margin-right: auto;      	}            @media only screen and (max-width: 1088px) {        #bwg_container1_0 #bwg_container2_0 .bwg_masonry_thumbnails_0 {          width: inherit;        }      }            #bwg_container1_0 #bwg_container2_0 .bwg_masonry_thumb_description_0 {        color: #323A45;        line-height: 1.4;        font-size: 16px;        font-family: Ubuntu;        text-align: justify;      }      #bwg_container1_0.bwg_thumbnails_masonry .wd_error p {          color: #323A45;      }      #bwg_container1_0 #bwg_container2_0 .bwg_gal_title_0 {        background-color: rgba(0\, 0\, 0\, 0);        color: #323A45;        display: block;        font-family: Ubuntu;        font-size: 16px;        font-weight: bold;        padding: 2px;        text-shadow: ;        text-align: center;      }                                                                                                                                                                              					                                  				                                                                                                                                                         /*pagination styles*/      #bwg_container1_0 #bwg_container2_0 .tablenav-pages_0 {      text-align: center;      font-size: 12px;      font-family: Ubuntu;      font-weight: bold;      color: #666666;      margin: 6px 0 4px;      display: block;      height: 30px;      line-height: 30px;      }      @media only screen and (max-width : 320px) {      #bwg_container1_0 #bwg_container2_0 .displaying-num_0 {      display: none;      }      }      #bwg_container1_0 #bwg_container2_0 .displaying-num_0 {      font-size: 12px;      font-family: Ubuntu;      font-weight: bold;      color: #666666;      margin-right: 10px;      vertical-align: middle;      }      #bwg_container1_0 #bwg_container2_0 .paging-input_0 {      font-size: 12px;      font-family: Ubuntu;      font-weight: bold;      color: #666666;      vertical-align: middle;      }      #bwg_container1_0 #bwg_container2_0 .tablenav-pages_0 a.disabled\,      #bwg_container1_0 #bwg_container2_0 .tablenav-pages_0 a.disabled:hover\,      #bwg_container1_0 #bwg_container2_0 .tablenav-pages_0 a.disabled:focus {      cursor: default;      color: rgba(102\, 102\, 102\, 0.5);      }      #bwg_container1_0 #bwg_container2_0 .tablenav-pages_0 a {      cursor: pointer;      font-size: 12px;      font-family: Ubuntu;      font-weight: bold;      color: #666666;      text-decoration: none;      padding: 3px 6px;      margin: 0;      border-radius: 0;      border-style: solid;      border-width: 1px;      border-color: #E3E3E3;      background-color: #FFFFFF;      opacity: 1.00;      filter: Alpha(opacity=100);      box-shadow: 0;      transition: all 0.3s ease 0s;-webkit-transition: all 0.3s ease 0s;      }                                                    function spider_page_0(cur\, x\, y\, load_more) {        if (typeof load_more == "undefined") {          var load_more = false;        }        if (jQuery(cur).hasClass('disabled')) {          return false;        }        var items_county_0 = 1;        switch (y) {          case 1:            if (x >= items_county_0) {              document.getElementById('page_number_0').value = items_county_0;            }            else {              document.getElementById('page_number_0').value = x + 1;            }            break;          case 2:            document.getElementById('page_number_0').value = items_county_0;            break;          case -1:            if (x == 1) {              document.getElementById('page_number_0').value = 1;            }            else {              document.getElementById('page_number_0').value = x - 1;            }            break;          case -2:            document.getElementById('page_number_0').value = 1;            break;          default:            document.getElementById('page_number_0').value = 1;        }        bwg_ajax('gal_front_form_0'\, '0'\, 'bwg_thumbnails_masonry_0'\, '0'\, ''\, ''\, 0\, ''\, ''\, load_more);      }      jQuery('.first-page-0').on('click'\, function () {        spider_page_0(this\, 1\, -2\, 'numeric');      });      jQuery('.prev-page-0').on('click'\, function () {        spider_page_0(this\, 1\, -1\, 'numeric');        return false;      });      jQuery('.next-page-0').on('click'\, function () {        spider_page_0(this\, 1\, 1\, 'numeric');        return false;      });      jQuery('.last-page-0').on('click'\, function () {        spider_page_0(this\, 1\, 2\, 'numeric');      });      jQuery('.bwg_load_btn_0').on('click'\, function () {        spider_page_0(this\, 1\, 1\, true);        return false;      });                                                  #bwg_container1_0 #bwg_container2_0 #spider_popup_overlay_0 {          background-color: #EEEEEE;          opacity: 0.60;          filter: Alpha(opacity=60);          }                                                        jQuery(document).ready(function () {        bwg_main_ready();      });        \nDurant l’année scolaire 2020-2021\, la MABA réalise avec le soutien de la DRAC Ile-de-France une résidence en milieu scolaire au sein du Lycée La Source de Nogent-sur-Marne. Cette résidence\, confiée à l’artiste Sébastien Gouju\, réunit plusieurs sections d’arts appliqués du lycée (DNMADE\, CAP Chapellerie\, Bac Pro Métiers de la mode et du vêtement\, 1ère Tapisserie…) autour de la question du « Patron »\, ce modèle normé qui constitue un préambule à suivre scrupuleusement. \nÀ travers le « patron »\, les pistes de travail développées pendant la résidence permettent ainsi de valoriser l’hors-champ\, ce qui habituellement n’est pas le sujet (l’erreur)\, en attachant une importance (l’inattendu) au préalable invisible. En abordant le patron en réalisation finale du projet\, l’ordre établi s’en trouve inversé permettant de parfaire et/ou de compléter les usages et attendus de la profession. Là\, comme dans sa pratique habituelle\, Sébastien Gouju applique des hybridations incongrues et des télescopages de sens et de formes. Ainsi reconfigurés\, les signes devenus images proposent des narrations\, tantôt légères\, tantôt redoutables\, à la croisée du quotidien et de la fable. \n  \n
URL:https://www.fondationdesartistes.fr/evenement/evenement-maba/residence-en-milieu-scolaire-de-lartiste-sebastien-gouju/
LOCATION:MABA\, Maison d'Art Bernard Anthonioz\, 16 rue Charles VII 94130 Nogent-sur-Marne\, 94130\, 94130\, France
CATEGORIES:Évènement MABA
ATTACH;FMTTYPE=image/jpeg:https://www.fondationdesartistes.fr/wp-content/uploads/2021/04/unnamed.jpg
END:VEVENT
END:VCALENDAR