BEGIN:VCALENDAR
VERSION:2.0
PRODID:-//Fondation des Artistes - ECPv4.7.2//NONSGML v1.0//EN
CALSCALE:GREGORIAN
METHOD:PUBLISH
X-WR-CALNAME:Fondation des Artistes
X-ORIGINAL-URL:https://www.fondationdesartistes.fr
X-WR-CALDESC:Évènements pour Fondation des Artistes
BEGIN:VEVENT
DTSTART;VALUE=DATE:20200810
DTEND;VALUE=DATE:20200822
DTSTAMP:20260423T035022
CREATED:20200924T144757Z
LAST-MODIFIED:20200925T072506Z
UID:6282-1597017600-1598054399@www.fondationdesartistes.fr
SUMMARY:ÉVOCATION(S) - visite sonore / été culturel
DESCRIPTION:Le programme ÉVOCATION(S) se propose de penser un centre d’art à partir du seul rapport à l’imaginaire. Comment penser un lieu d’exposition quand celui-ci est vidé de ce qui fait sa substance\, la présence des œuvres. Dans cet interstice de l’été\, où le centre d’art est fermé au public\, où les œuvres et les artistes sont absents\, il s’agit d’amener les publics à solliciter leurs capacités de projection à partir d’un travail d’écoute d’une œuvre sonore engageant un parcours physique et mental au sein des espaces intérieurs et extérieurs du centre d’art. \nCette évocation est confiée à l’artiste Lidwine Prolonge qui\, dans le Cinéma des sœurs Smith\, partie VI – la voix engageait  l’inconscient de  l’exposition Performance TV à laquelle elle avait participé en 2018\, créant des ouvertures vers ce qui l’excédait et la constituait : les multiples histoires qui parcouraient les salles de la MABA\, les commerces invisibles entre les œuvres présentes et passées\, des émotions qui resurgissaient. La pièce sonore réalisée pour l’exposition menait le visiteur vers le parc et vers les autres usagers du lieu\, les artistes des ateliers  et de la Maison nationale des artistes. Une voix envoûtante pénétrait peu à peu le regard\, superposant aux lieux traversés la mémoire des œuvres précédentes\, mêlée à des bribes de conversations vécues par Lidwine Prolonge lors de ses séjours à Nogent-sur-Marne. Ce moment d’écoute individuel invitait à des attitudes méditatives mais aussi rétrospectives sur la visite de l’exposition. Le récit fragmenté guide ainsi les pas des visiteurs\, tout en produisant une dérive des consciences. \n \nMunis de casques individuels permettant l’écoute de l’œuvre sonore\, les visiteurs déambulent au sein des espaces vides de la MABA en se laissant bercer par les souvenirs liés à une exposition passée. Le parcours les amène des salles de la MABA jusqu’à l’extérieur\, un parc\, où une voix les invite à percevoir la chaleur de l’été\, les grondements de l’orage à venir… dans un parcours où une réalité invisible (celle de l’exposition passée) s’agrémente d’éléments fictionnels. \nVisite gratuite\, réservation obligatoire limitée à 5 personnes par créneau horaire :\nhttps://www.helloasso.com/associations/maba/evenements/programme-evocation-s-visite-sonore-a-la-maba \nAccueil dans le respect des règles sanitaires\, masques obligatoires à partir de 11ans\nRenseignements et réservations : maba@fondationdesartistes.fr \nCréneaux disponibles : (toutes les demi-heures)\nlundi 10 août : 14h – 17h\nmardi 11 août : 10h – 12h\nlundi 17 août : 14h – 17h\nmercredi 19 août 14h – 17h\njeudi 20 août 14 – 17h\nvendredi 21 août 14 – 17h \n      #bwg_container1_0 #bwg_container2_0 .bwg_masonry_thumb_0 {        text-align: center;        display: inline-block;        vertical-align: middle;              width: 100%;              border-radius: 0;        border: 0px none #CCCCCC;        background-color: #FFFFFF;        margin: 0;        opacity: 1.00;        filter: Alpha(opacity=100);      }            #bwg_container1_0 #bwg_container2_0 .bwg-container-0 .bwg-item {        padding-right: 4px;        padding-bottom: 4px;        max-width: 1080px;            }      #bwg_container1_0 #bwg_container2_0 .bwg-container-0 .bwg-item0 {        background-color: #FFFFFF;        border: 0px none #CCCCCC;        opacity: 1.00;        filter: Alpha(opacity=100);        border-radius: 0;      }      #bwg_container1_0 #bwg_container2_0 .bwg-container-0 .bwg-item1 img {        max-height: none;        max-width: 1080px;      }            @media only screen and (min-width: 480px) {        #bwg_container1_0 #bwg_container2_0 .bwg-container-0 .bwg-item1 img {        -webkit-transition: -webkit-transform .3s; transition: transform .3s;        }        #bwg_container1_0 #bwg_container2_0 .bwg-container-0 .bwg-item1 img:hover {          -ms-transform: scale(1.08);          -webkit-transform: scale(1.08);          transform: scale(1.08);        }		      }          	  #bwg_container1_0 #bwg_container2_0 .bwg-container-0 .bwg-title2\,    #bwg_container1_0 #bwg_container2_0 .bwg-container-0 .bwg-play-icon2\,    #bwg_container1_0 #bwg_container2_0 .bwg-container-0 .bwg-ecommerce2 {      max-height: 100%;      padding: 2px;      font-family: Ubuntu;      font-weight: bold;      font-size: 16px;      color: #323A45;    }    #bwg_container1_0 #bwg_container2_0 .bwg-container-0 .bwg-ecommerce2 {      color: #323A45;    }	  #bwg_container1_0 #bwg_container2_0 .bwg_masonry_thumbnails_0 {        position: relative;        background-color: rgba(255\, 255\, 255\, 0.00);        font-size: 0;		        width: 1084px;        max-width: 100%;					padding-left: 4px;			padding-top: 4px;			max-width: 100%;		    justify-content: center;            margin-left: auto;        margin-right: auto;      	}            @media only screen and (max-width: 1088px) {        #bwg_container1_0 #bwg_container2_0 .bwg_masonry_thumbnails_0 {          width: inherit;        }      }            #bwg_container1_0 #bwg_container2_0 .bwg_masonry_thumb_description_0 {        color: #323A45;        line-height: 1.4;        font-size: 16px;        font-family: Ubuntu;        text-align: justify;      }      #bwg_container1_0.bwg_thumbnails_masonry .wd_error p {          color: #323A45;      }      #bwg_container1_0 #bwg_container2_0 .bwg_gal_title_0 {        background-color: rgba(0\, 0\, 0\, 0);        color: #323A45;        display: block;        font-family: Ubuntu;        font-size: 16px;        font-weight: bold;        padding: 2px;        text-shadow: ;        text-align: center;      }                                                                                                                                                                              					                                  				                                                                                                                                                                                             					                                  				                                                                                                                                                                                             					                                  				                                                                                                                                                         /*pagination styles*/      #bwg_container1_0 #bwg_container2_0 .tablenav-pages_0 {      text-align: center;      font-size: 12px;      font-family: Ubuntu;      font-weight: bold;      color: #666666;      margin: 6px 0 4px;      display: block;      height: 30px;      line-height: 30px;      }      @media only screen and (max-width : 320px) {      #bwg_container1_0 #bwg_container2_0 .displaying-num_0 {      display: none;      }      }      #bwg_container1_0 #bwg_container2_0 .displaying-num_0 {      font-size: 12px;      font-family: Ubuntu;      font-weight: bold;      color: #666666;      margin-right: 10px;      vertical-align: middle;      }      #bwg_container1_0 #bwg_container2_0 .paging-input_0 {      font-size: 12px;      font-family: Ubuntu;      font-weight: bold;      color: #666666;      vertical-align: middle;      }      #bwg_container1_0 #bwg_container2_0 .tablenav-pages_0 a.disabled\,      #bwg_container1_0 #bwg_container2_0 .tablenav-pages_0 a.disabled:hover\,      #bwg_container1_0 #bwg_container2_0 .tablenav-pages_0 a.disabled:focus {      cursor: default;      color: rgba(102\, 102\, 102\, 0.5);      }      #bwg_container1_0 #bwg_container2_0 .tablenav-pages_0 a {      cursor: pointer;      font-size: 12px;      font-family: Ubuntu;      font-weight: bold;      color: #666666;      text-decoration: none;      padding: 3px 6px;      margin: 0;      border-radius: 0;      border-style: solid;      border-width: 1px;      border-color: #E3E3E3;      background-color: #FFFFFF;      opacity: 1.00;      filter: Alpha(opacity=100);      box-shadow: 0;      transition: all 0.3s ease 0s;-webkit-transition: all 0.3s ease 0s;      }                                                    function spider_page_0(cur\, x\, y\, load_more) {        if (typeof load_more == "undefined") {          var load_more = false;        }        if (jQuery(cur).hasClass('disabled')) {          return false;        }        var items_county_0 = 1;        switch (y) {          case 1:            if (x >= items_county_0) {              document.getElementById('page_number_0').value = items_county_0;            }            else {              document.getElementById('page_number_0').value = x + 1;            }            break;          case 2:            document.getElementById('page_number_0').value = items_county_0;            break;          case -1:            if (x == 1) {              document.getElementById('page_number_0').value = 1;            }            else {              document.getElementById('page_number_0').value = x - 1;            }            break;          case -2:            document.getElementById('page_number_0').value = 1;            break;          default:            document.getElementById('page_number_0').value = 1;        }        bwg_ajax('gal_front_form_0'\, '0'\, 'bwg_thumbnails_masonry_0'\, '0'\, ''\, ''\, 0\, ''\, ''\, load_more);      }      jQuery('.first-page-0').on('click'\, function () {        spider_page_0(this\, 1\, -2\, 'numeric');      });      jQuery('.prev-page-0').on('click'\, function () {        spider_page_0(this\, 1\, -1\, 'numeric');        return false;      });      jQuery('.next-page-0').on('click'\, function () {        spider_page_0(this\, 1\, 1\, 'numeric');        return false;      });      jQuery('.last-page-0').on('click'\, function () {        spider_page_0(this\, 1\, 2\, 'numeric');      });      jQuery('.bwg_load_btn_0').on('click'\, function () {        spider_page_0(this\, 1\, 1\, true);        return false;      });                                                  #bwg_container1_0 #bwg_container2_0 #spider_popup_overlay_0 {          background-color: #EEEEEE;          opacity: 0.60;          filter: Alpha(opacity=60);          }                                                        jQuery(document).ready(function () {        bwg_main_ready();      });        \nVisite également proposée pour les groupes d’enfants et de jeunes à partir de 8ans avec à l’issue de ce parcours\, un temps de création plastique. Pour les groupes de centres de loisirs et associations\, d’autres créneaux horaires sont disponibles.\nPour plus d’informations : maba@fondationdesartistes.fr \nAvec le soutien de la Direction régionale des Affaires culturelles d’Île-de-France – Ministère de la Culture \n  \n  \n  \n
URL:https://www.fondationdesartistes.fr/evenement/evenement-maba/evocations-visite-sonore/
LOCATION:MABA\, Maison d'Art Bernard Anthonioz\, 16 rue Charles VII 94130 Nogent-sur-Marne\, 94130\, 94130\, France
CATEGORIES:Évènement MABA
ATTACH;FMTTYPE=image/jpeg:https://www.fondationdesartistes.fr/wp-content/uploads/2020/07/Lidwine-Prolonge-Installation-Le-Cinéma-de-Soeurs-Smith-MABA-2018-crédit-photo-Aurélien-Mole-3.jpg
END:VEVENT
END:VCALENDAR