BEGIN:VCALENDAR
VERSION:2.0
PRODID:-//Fondation des Artistes - ECPv4.7.2//NONSGML v1.0//EN
CALSCALE:GREGORIAN
METHOD:PUBLISH
X-WR-CALNAME:Fondation des Artistes
X-ORIGINAL-URL:https://www.fondationdesartistes.fr
X-WR-CALDESC:Évènements pour Fondation des Artistes
BEGIN:VEVENT
DTSTART;TZID=Europe/Paris:20260329T150000
DTEND;TZID=Europe/Paris:20260329T170000
DTSTAMP:20260420T154514
CREATED:20251213T130920Z
LAST-MODIFIED:20260414T112657Z
UID:15784-1774796400-1774803600@www.fondationdesartistes.fr
SUMMARY:Atelier en famille
DESCRIPTION:Participez en famille à un atelier créatif inspiré de l’exposition We had the same dream last night\, présentée à la MABA. \nDurée 45 min\nÀ partir de 5 ans\nGratuit\, sur réservation : maba@fondationdesartistes.fr  \n    #bwg_container1_0 #bwg_container2_0 .bwg-container-0 {      width: 1924px;      justify-content: center;              margin-left: auto;        margin-right: auto;              background-color: rgba(255\, 255\, 255\, 0.00);            padding-left: 4px;      padding-top: 4px;      max-width: 100%;            }        #bwg_container1_0 #bwg_container2_0 .bwg-container-0 .bwg-item {      justify-content: flex-start;      max-width: 1920px;          }    #bwg_container1_0 #bwg_container2_0 .bwg-container-0 .bwg-item > a {       margin-right: 4px;       margin-bottom: 4px;    }    #bwg_container1_0 #bwg_container2_0 .bwg-container-0 .bwg-item0 {      padding: 0px;      background-color: #000000;      border: 0px none #CCCCCC;      opacity: 1.00;      filter: Alpha(opacity=100);      border-radius: 0;      box-shadow: ;    }    #bwg_container1_0 #bwg_container2_0 .bwg-container-0 .bwg-item1 img {      max-height: none;      max-width: none;      padding: 0 !important;    }         @media only screen and (min-width: 480px) {		#bwg_container1_0 #bwg_container2_0 .bwg-container-0 .bwg-item1 img {			-webkit-transition: all .3s; transition: all .3s;		}		#bwg_container1_0 #bwg_container2_0 .bwg-container-0 .bwg-item1 img:hover {			-ms-transform: scale(1.08);			-webkit-transform: scale(1.08);			transform: scale(1.08);		}		      }	    #bwg_container1_0 #bwg_container2_0 .bwg-container-0 .bwg-item1 {      padding-top: 56.25%;    }        #bwg_container1_0 #bwg_container2_0 .bwg-container-0 .bwg-title2\,    #bwg_container1_0 #bwg_container2_0 .bwg-container-0 .bwg-ecommerce2 {      color: #323A45;      font-family: Ubuntu;      font-size: 16px;      font-weight: bold;      padding: 2px;      text-shadow: ;      max-height: 100%;    }    #bwg_container1_0 #bwg_container2_0 .bwg-container-0 .bwg-play-icon2 {      font-size: 32px;    }    #bwg_container1_0 #bwg_container2_0 .bwg-container-0 .bwg-ecommerce2 {      font-size: 19.2px;      color: #323A45;    }                                                                                                                                                                                                                                                                                                            Vue de l'exposition We had the same dream last night de Émilie Pitoiset\, 2026 (c) photo Aurélien Mole.                                                                                                                                                                                                      Emilie Pitoiset\, So Much Tenderness\, 2026. Vidéo\, couleur\, stéréo\, 9’17’’. Courtesy de l'artiste & Klemm's\, Berlin.                                                                                                                                                                                                       Emilie Pitoiset\, So Much Tenderness\, mascotte sur-mesure\, 2025. Courtesy of the artist & Klemm’s\, Berlin                                                                 #bwg_container1_0 #bwg_container2_0 #spider_popup_overlay_0 {          background-color: #EEEEEE;          opacity: 0.60;          filter: Alpha(opacity=60);          }                                                        jQuery(document).ready(function () {        bwg_main_ready();      });        \n
URL:https://www.fondationdesartistes.fr/evenement/evenement-maba/atelier-en-famille-2/
CATEGORIES:Évènement MABA
ATTACH;FMTTYPE=image/jpeg:https://www.fondationdesartistes.fr/wp-content/uploads/2026/02/Visuel-atelier-en-famille.jpg
END:VEVENT
END:VCALENDAR